BEGIN:VCALENDAR
VERSION:2.0
PRODID:-//Jupyter Foundation - ECPv6.15.20//NONSGML v1.0//EN
CALSCALE:GREGORIAN
METHOD:PUBLISH
X-WR-CALNAME:Jupyter Foundation
X-ORIGINAL-URL:https://jupyterfoundation.org
X-WR-CALDESC:Events for Jupyter Foundation
REFRESH-INTERVAL;VALUE=DURATION:PT1H
X-Robots-Tag:noindex
X-PUBLISHED-TTL:PT1H
BEGIN:VTIMEZONE
TZID:Europe/Prague
BEGIN:DAYLIGHT
TZOFFSETFROM:+0100
TZOFFSETTO:+0200
TZNAME:CEST
DTSTART:20250330T010000
END:DAYLIGHT
BEGIN:STANDARD
TZOFFSETFROM:+0200
TZOFFSETTO:+0100
TZNAME:CET
DTSTART:20251026T010000
END:STANDARD
BEGIN:DAYLIGHT
TZOFFSETFROM:+0100
TZOFFSETTO:+0200
TZNAME:CEST
DTSTART:20260329T010000
END:DAYLIGHT
BEGIN:STANDARD
TZOFFSETFROM:+0200
TZOFFSETTO:+0100
TZNAME:CET
DTSTART:20261025T010000
END:STANDARD
BEGIN:DAYLIGHT
TZOFFSETFROM:+0100
TZOFFSETTO:+0200
TZNAME:CEST
DTSTART:20270328T010000
END:DAYLIGHT
BEGIN:STANDARD
TZOFFSETFROM:+0200
TZOFFSETTO:+0100
TZNAME:CET
DTSTART:20271031T010000
END:STANDARD
END:VTIMEZONE
BEGIN:VEVENT
DTSTART;TZID=Europe/Prague:20261006T090000
DTEND;TZID=Europe/Prague:20261006T123000
DTSTAMP:20260421T233643
CREATED:20260421T175103Z
LAST-MODIFIED:20260421T175702Z
UID:10000001-1791277200-1791289800@jupyterfoundation.org
SUMMARY:Jupyter Mini Summit at Open Source Summit Europe 2026
DESCRIPTION:[vc_row type=”in_container” full_screen_row_position=”middle” column_margin=”default” column_direction=”default” column_direction_tablet=”default” column_direction_phone=”default” scene_position=”center” text_color=”dark” text_align=”left” row_border_radius=”none” row_border_radius_applies=”bg” row_position_desktop=”default” row_position_tablet=”inherit” row_position_phone=”inherit” overflow=”visible” overlay_strength=”0.3″ gradient_direction=”left_to_right” shape_divider_position=”bottom” bg_image_animation=”none”][vc_column column_padding=”no-extra-padding” column_padding_tablet=”inherit” column_padding_phone=”inherit” column_padding_position=”all” flex_gap_desktop=”10px” column_element_direction_desktop=”default” column_element_spacing=”default” desktop_text_alignment=”default” tablet_text_alignment=”default” phone_text_alignment=”default” background_color_opacity=”1″ background_hover_color_opacity=”1″ column_backdrop_filter=”none” column_shadow=”none” column_border_radius=”none” column_link_target=”_self” column_position=”default” gradient_direction=”left_to_right” overlay_strength=”0.3″ width=”1/1″ tablet_width_inherit=”default” animation_type=”default” bg_image_animation=”none” border_type=”simple” column_border_width=”none” column_border_style=”solid”][vc_column_text css=”” text_direction=”default”]\nJoin us for the Jupyter Mini Summit at Open Source Summit Europe\, where we’ll bring together contributors\, users\, and community members to connect\, collaborate\, and share ideas. This gathering is an opportunity to discuss the future of Project Jupyter\, highlight ongoing initiatives\, and explore ways to strengthen the ecosystem.\n\n\nWhether you’re a long-time contributor or new to the community\, the Mini Summit offers a space to engage in meaningful conversations\, exchange insights\, and help shape what’s next for Jupyter. \nJoin us for the Jupyter Mini Summit at Open Source Summit Europe\, where we’ll bring together contributors\, users\, and community members to connect\, collaborate\, and share ideas. This gathering is an opportunity to discuss the future of Project Jupyter\, highlight ongoing initiatives\, and explore ways to strengthen the ecosystem.\n\nWhether you’re a long-time contributor or new to the community\, the Mini Summit offers a space to engage in meaningful conversations\, exchange insights\, and help shape what’s next for Jupyter.\n\n[/vc_column_text][/vc_column][/vc_row]
URL:https://jupyterfoundation.org/event/jupyter-mini-summit-at-open-source-summit-europe-2026/
LOCATION:Prague Congress Centre\, 5. kvetna 1640/65\, Nusle 140 21\, Prague\, Czech Republic
CATEGORIES:Jupyter Foundation Events
ATTACH;FMTTYPE=image/png:https://jupyterfoundation.org/wp-content/uploads/sites/16/2026/04/jupyter_mini_summit.png
END:VEVENT
END:VCALENDAR